BEGIN:VCALENDAR
VERSION:2.0
PRODID:-//Straatrommelmarkten in Alkmaar en andere plaatsen//NONSGML kigkon
 sult.se iCalcreator 2.30.10//
CALSCALE:GREGORIAN
METHOD:PUBLISH
UID:a35d4053-d86e-4933-b0e6-a96175bfb74d
X-WR-CALNAME:iCagenda
X-WR-CALDESC:Event Management Extension for Joomla!
X-WR-RELCALID:3E26604A-50F4-4449-8B3E-E4F4932D05B5
X-WR-TIMEZONE:Europe/Amsterdam
BEGIN:VTIMEZONE
TZID:Europe/Amsterdam
BEGIN:STANDARD
TZNAME:CET
DTSTART:20251026T030000
TZOFFSETFROM:+0200
TZOFFSETTO:+0100
RDATE:20261025T030000
RDATE:20271031T030000
END:STANDARD
BEGIN:DAYLIGHT
TZNAME:CEST
DTSTART:20260329T020000
TZOFFSETFROM:+0100
TZOFFSETTO:+0200
RDATE:20270328T020000
END:DAYLIGHT
END:VTIMEZONE
BEGIN:VEVENT
UID:81a007f4-89a3-45e3-8ae8-c57d4e93f8e1
DTSTAMP:20260420T155422Z
CATEGORIES:Straatrommelmarkt Alkmaar
CLASS:PUBLIC
DESCRIPTION:
DTSTART:20260517T060000Z
DTEND:20260517T120000Z
GEO:00;0
LOCATION:
ORGANIZER;CN=:agnesklitsie@gmail.com
SEQUENCE:1
SUMMARY:Blaeustraat\, Van der Lijnstraat\, Bisschop Bottemannestraat\, Hout
 manstraat
TRANSP:OPAQUE
URL:https://www.straatrommelmarkten.nl/straatrommelmarkten-alkmaar/493-blae
 ustraat-van-der-lijnstraat-bisschop-bottemannestraat-houtmanstraat
END:VEVENT
END:VCALENDAR
